BEGIN:VCALENDAR
VERSION:2.0
PRODID:-//aplClub - ECPv4.8.2//NONSGML v1.0//EN
CALSCALE:GREGORIAN
METHOD:PUBLISH
X-WR-CALNAME:aplClub
X-ORIGINAL-URL:http://aplclub.lu
X-WR-CALDESC:Évènements pour aplClub
BEGIN:VEVENT
DTSTART;TZID=Europe/Luxembourg:20191214T190000
DTEND;TZID=Europe/Luxembourg:20191214T230000
DTSTAMP:20210720T104227
CREATED:20190209T104654Z
LAST-MODIFIED:20190308T184952Z
UID:375-1576350000-1576364400@aplclub.lu
SUMMARY:Repas de fin d'année (Noël)
DESCRIPTION:Nous avons le plaisir de convier tous nos membres pour le repas de fin d’année. \nPeut-être vous ?! \n
URL:http://aplclub.lu/event/repas-de-fin-dannee-noel/
LOCATION:Double Tree by Hilton\, 12 Rue Jean Engling\, Luxembourg\, 1466\, Luxembourg
CATEGORIES:Sorties 2019
ATTACH;FMTTYPE=image/jpeg:http://aplclub.lu/wp-content/uploads/2018/04/38068089_2349931641901382_2956260766186995712_n.jpg
ORGANIZER;CN="APL%20Club":MAILTO:info@aplclub.lu
END:VEVENT
END:VCALENDAR