BEGIN:VCALENDAR
VERSION:2.0
PRODID:-//aplClub - ECPv4.8.2//NONSGML v1.0//EN
CALSCALE:GREGORIAN
METHOD:PUBLISH
X-WR-CALNAME:aplClub
X-ORIGINAL-URL:http://aplclub.lu
X-WR-CALDESC:Évènements pour aplClub
BEGIN:VEVENT
DTSTART;VALUE=DATE:20190928
DTEND;VALUE=DATE:20190929
DTSTAMP:20200124T050539
CREATED:20190209T103259Z
LAST-MODIFIED:20190310T193004Z
UID:359-1569628800-1569715199@aplclub.lu
SUMMARY:Road Trip Luxembourg - 28 Septembre 2019
DESCRIPTION:\n\n\n\n\n\n\n\n\n\n\n\n\n\nNous vous proposons une petite ballade a travers la campagne luxembourgeoise\, suivi d’un petit resto.\nNotre ami Philippe nous a concocté un petit road book bien sympathique. \n\n\n\n\n\n\n\n\n\n\n\n\n\n\n\n
URL:http://aplclub.lu/event/road-trip-luxembourg-28-septembre-2019/
CATEGORIES:Sorties 2019
ATTACH;FMTTYPE=image/jpeg:http://aplclub.lu/wp-content/uploads/2019/02/49269890_2463668283861050_421524024758108160_n.jpg
ORGANIZER;CN="APL%20Club":MAILTO:info@aplclub.lu
END:VEVENT
END:VCALENDAR