BEGIN:VCALENDAR
VERSION:2.0
PRODID:-//aplClub - ECPv4.8.2//NONSGML v1.0//EN
CALSCALE:GREGORIAN
METHOD:PUBLISH
X-WR-CALNAME:aplClub
X-ORIGINAL-URL:http://aplclub.lu
X-WR-CALDESC:Évènements pour aplClub
BEGIN:VEVENT
DTSTART;TZID=UTC+0:20180914T180000
DTEND;TZID=UTC+0:20180914T230000
DTSTAMP:20200123T080523
CREATED:20180409T111913Z
LAST-MODIFIED:20190308T185313Z
UID:190-1536948000-1536966000@aplclub.lu
SUMMARY:Sortie APL n°5
DESCRIPTION:Nous vous proposons une petite ballade a travers la campagne luxembourgeoise\, suivi d’un petit resto.\nNotre ami Philippe nous a concocté un petit road book bien sympathique.\nRDV —et départ 18h30. \nPour pouvoir vous accueillir dans les meilleurs conditions\, nous prendrons les 18 premiers.\nDate limite de paiement et d’annulation le 10 Septembre 2018. \n
URL:http://aplclub.lu/event/sortie-apl-n5/
LOCATION:Hôtel de la Sûre\, Rue du Pont 1\, Esch-sur-Sûre\, 9650\, Luxembourg
CATEGORIES:Sorties 2018
ATTACH;FMTTYPE=image/jpeg:http://aplclub.lu/wp-content/uploads/2018/04/26196290_2190668294494385_7665202306078983608_n.jpg
ORGANIZER;CN="APL%20Club":MAILTO:info@aplclub.lu
END:VEVENT
END:VCALENDAR