BEGIN:VCALENDAR
VERSION:2.0
PRODID:-//aplClub - ECPv4.8.2//NONSGML v1.0//EN
CALSCALE:GREGORIAN
METHOD:PUBLISH
X-WR-CALNAME:aplClub
X-ORIGINAL-URL:http://aplclub.lu
X-WR-CALDESC:Évènements pour aplClub
BEGIN:VEVENT
DTSTART;TZID=UTC+0:20181005T180000
DTEND;TZID=UTC+0:20181005T230000
DTSTAMP:20200123T080805
CREATED:20180409T112443Z
LAST-MODIFIED:20190308T185334Z
UID:195-1538762400-1538780400@aplclub.lu
SUMMARY:Sortie APL n°6
DESCRIPTION:Nous vous proposons une petite ballade a travers la campagne luxembourgeoise\, suivi d’un petit resto.\nNotre ami Philippe nous a concocté un petit road book bien sympathique.\nRDV —et départ 18h30. \nPour pouvoir vous accueillir dans les meilleurs conditions\, nous prendrons les 18 premiers.\nDate limite de paiement et d’annulation le 01 Octobre 2018. \n
URL:http://aplclub.lu/event/sortie-apl-n6/
LOCATION:Restaurant Auberge Kohnenhof\, Kounenhaff 3\, Obereisenbach\, 9838\, Luxembourg
CATEGORIES:Sorties 2018
ATTACH;FMTTYPE=image/jpeg:http://aplclub.lu/wp-content/uploads/2018/04/26229543_2190672034494011_1973203890818692487_n.jpg
ORGANIZER;CN="APL%20Club":MAILTO:info@aplclub.lu
END:VEVENT
END:VCALENDAR