BEGIN:VCALENDAR
VERSION:2.0
PRODID:-//aplClub - ECPv4.8.2//NONSGML v1.0//EN
CALSCALE:GREGORIAN
METHOD:PUBLISH
X-WR-CALNAME:aplClub
X-ORIGINAL-URL:http://aplclub.lu
X-WR-CALDESC:Évènements pour aplClub
BEGIN:VEVENT
DTSTART;TZID=Europe/Luxembourg:20190608T080000
DTEND;TZID=Europe/Luxembourg:20190610T200000
DTSTAMP:20200124T045109
CREATED:20190209T091644Z
LAST-MODIFIED:20190310T192518Z
UID:339-1559980800-1560196800@aplclub.lu
SUMMARY:Sortie Bourgogne
DESCRIPTION:\n\n\n\n\n\n\n\n\n\n\n\n\n\n\n\nhttp://aplclub.lu/wp-content/uploads/2019/02/Sortie-Bourgogne1.mp4\nNous vous proposons une petite ballade en Bourgogne.\nLors de se week-end\, vous visiterez : \nhttp://hospices-de-beaune.com/\nhttp://www.patriarche.com/\nhttps://www.chateau-savigny.com/\nhttps://www.fallot.com/enjoy-fallot/\n+ 1 surprise \n\n——\nVous pouvez avoir un copilote.\nWeek-end pour Monsieur ET Madame !!!\n\nSéjour\n3 jours sur place\, \n2 nuits d’hôtel\, \n2 petits déjeuner\, \n5 repas\, boissons comprises\n\n5 visites\n\nDescente en Porsche obligatoire.\n\n\n\n\n\n\n\n\n\n\n\n\n\n\n
URL:http://aplclub.lu/event/sortie-bourgogne/
LOCATION:Beaune\, Rue de l'Hôtel-Dieu\, Beaune\, 21200\, France
CATEGORIES:Sorties 2019
ATTACH;FMTTYPE=image/jpeg:http://aplclub.lu/wp-content/uploads/2019/02/6342768_1_1000x625.jpg
ORGANIZER;CN="APL%20Club":MAILTO:info@aplclub.lu
END:VEVENT
END:VCALENDAR