BEGIN:VCALENDAR
VERSION:2.0
PRODID:-//aplClub - ECPv4.8.2//NONSGML v1.0//EN
CALSCALE:GREGORIAN
METHOD:PUBLISH
X-WR-CALNAME:aplClub
X-ORIGINAL-URL:http://aplclub.lu
X-WR-CALDESC:Évènements pour aplClub
BEGIN:VEVENT
DTSTART;VALUE=DATE:20200612
DTEND;VALUE=DATE:20200613
DTSTAMP:20201209T231918
CREATED:20200104T134725Z
LAST-MODIFIED:20200104T134725Z
UID:774-1591920000-1592006399@aplclub.lu
SUMMARY:Sortie circuit CHAMBLEY
DESCRIPTION:Nos amis Maxime et Clément\, nous ont préparés une sortie circuit sur la piste de CHAMBLEY (France -54) \nA vos casques! \nPlus d’informations sur notre forum. \n
URL:http://aplclub.lu/event/sortie-circuit-chambley/
CATEGORIES:Sorties 2020
ATTACH;FMTTYPE=image/jpeg:http://aplclub.lu/wp-content/uploads/2020/01/000000043-5s.jpg
ORGANIZER;CN="APL%20Club":MAILTO:info@aplclub.lu
END:VEVENT
END:VCALENDAR