BEGIN:VCALENDAR
VERSION:2.0
PRODID:-//aplClub - ECPv4.8.2//NONSGML v1.0//EN
CALSCALE:GREGORIAN
METHOD:PUBLISH
X-WR-CALNAME:aplClub
X-ORIGINAL-URL:http://aplclub.lu
X-WR-CALDESC:Évènements pour aplClub
BEGIN:VEVENT
DTSTART;TZID=UTC+0:20180921T080000
DTEND;TZID=UTC+0:20180923T230000
DTSTAMP:20200123T080650
CREATED:20180409T112129Z
LAST-MODIFIED:20190308T185326Z
UID:193-1537516800-1537743600@aplclub.lu
SUMMARY:Sortie Vosges
DESCRIPTION:Nous vous proposons une petite ballade a Travers les Vosges\nRDV au garage de Carlos a –h pour café/ croissant.\nDépart a — avec le plein de la voiture.\nNous roulerons en convoi.\n——\nVous pouvez avoir un copilote. \nDescente en Porsche obligatoire. \nPour pouvoir vous accueillir dans les meilleurs conditions\, nous prendrons les 15 premiers.\nDate limite de paiement et d’annulation le 10 Septembre 2018. \n
URL:http://aplclub.lu/event/sortie-vosges/
CATEGORIES:Sorties 2018
ATTACH;FMTTYPE=image/jpeg:http://aplclub.lu/wp-content/uploads/2018/04/26219781_2190678477826700_5859515538690016836_n.jpg
ORGANIZER;CN="APL%20Club":MAILTO:info@aplclub.lu
END:VEVENT
END:VCALENDAR