BEGIN:VCALENDAR
VERSION:2.0
PRODID:-//aplClub - ECPv4.8.2//NONSGML v1.0//EN
CALSCALE:GREGORIAN
METHOD:PUBLISH
X-WR-CALNAME:aplClub
X-ORIGINAL-URL:http://aplclub.lu
X-WR-CALDESC:Évènements pour aplClub
BEGIN:VEVENT
DTSTART;VALUE=DATE:20190330
DTEND;VALUE=DATE:20190331
DTSTAMP:20200123T081021
CREATED:20190201T155443Z
LAST-MODIFIED:20190310T190911Z
UID:234-1553904000-1553990399@aplclub.lu
SUMMARY:Stage de conduite - Maitrise du volant
DESCRIPTION:\nNous vous proposons pour la deuxième année un stage de maitrise du volant\, conduite défensif le matin et plus sportif l’après midi. Le repas est inclus dans le prix. \nSACHEZ QU’IL EST POSSIBLE DE PARTICIPER SEULEMENT LE MATIN. \nNous roulerons vers Hermalle s/Argenteau en convoi.\nVoici le déroulement du stage: \n– Accueil des participants (café-croissant) de 08h45 à 09h00 \n– Théorie stage « défensif » de 9h à 10h… \n– Exercices pratique de 10h à 12h \nCette première partie se déroule avec VW Golf TRES survireuses à raison de petits équipages de 3 personnes et un instructeur (toujours à bord dans chaque voiture). \nCe stage est très utile (et pas uniquement aux passionnés de voiture et de conduite/pilotage) car il permet d’acquérir une bonne technique du regard\, indispensable à la formation sportive de l’après-midi. Il nous aide également à réduire fortement le stress généré par un perte d’adhérence\, même si nous pensons être des grands garçons qui n’ont pas peur du dérapage ! \n– Un lunch (buffet varié de qualité) est servi de 12h15 à 13h \n– Nouvelle théorie orientée « glisse sportive » de 13h15 à 14h \n– De 14h à 16h30\, activité pratique par petits « runs » de 7/8 min. (la durée moyenne d’une spéciale de rallye) où chaque participant utilisera sa Porsche et sera accompagné d’un instructeur. Ces « runs » sont très intenses et nécessitent une concentration maximum\, d’où cette durée apparemment réduite ! … \nCes séries se font par 3 voitures simultanément\, ce afin de ne pas surcharger le tracé et laisser un peu de repos aux participants entre chaque série de 12/15 tours. \nBien entendu\, un couple peut\, l’après-midi\, se partager « sa » Porsche qui elle (la voiture !) roulera donc plus… que les autres Porsche ! Mais Madame comme Monsieur disposeront du même temps de roulage. \nDans le cas où Monsieur ne veut pas laisser sa voiture entre des mains féminines\, ils mettrons une Golf (avec instructeur) à la disposition de Madame l’après-midi… \nPour une bonne harmonie de ce programme\, nous préconisons des groupes de 9 participants pour l’ensemble de la journée\, surtout pour une première fois chez eux. \nSi des accompagnant(e)s voulaient ne suivre que la formation défensive du matin\, nous pouvons prévoir une voiture supplémentaire\, uniquement pour le matin\, ce qui porterait le nombre à 12 personnes AM et 9 personnes PM. \nPour les « Porschistes » qui le souhaitent\, nous pouvons équiper leur voiture de roues arrières moins adhérentes\, ce afin de rendre la glisse plus « facile » et onctueuse. Le cas échéant\, merci de nous communiquer la liste des voitures concernées et la dimension de leurs pneus arrières. Nous disposons d’un large éventail de roues montées en vieux pneus hiver (gommes durcies et divers niveaux d’usure suivant l’envie de chacun !)\, de 15’ à 21’\, MAIS PAS de roues à fixation CENTRALE ! (Donc pour 911 de ’65 à 2018\, 944\, 928\, Boxster/Cayman\, Panamera\, Cayenne ou Macan)\n—— \nDescente en Porsche obligatoire. \nPour pouvoir vous accueillir dans les meilleurs conditions\, nous prendrons les 9 premiers.\nDate limite de paiement et d’annulation le 18 mars 2019. \n\nhttps://www.maitriseduvolant.be/ \n  \n
URL:http://aplclub.lu/event/stage-de-conduite-maitrise-du-volant/
LOCATION:Centre de Maîtrise du Volant\, 1\, Rue de Liège\, Hermalle-Sous-Argenteau\, Liège\, 481\, Belgium
CATEGORIES:Sorties 2019
ATTACH;FMTTYPE=image/jpeg:http://aplclub.lu/wp-content/uploads/2018/04/26171599_2185687224992492_8267894059457362607_o-e1552057550806.jpg
ORGANIZER;CN="APL%20Club":MAILTO:info@aplclub.lu
END:VEVENT
END:VCALENDAR