BEGIN:VCALENDAR
VERSION:2.0
PRODID:-//aplClub - ECPv4.8.2//NONSGML v1.0//EN
CALSCALE:GREGORIAN
METHOD:PUBLISH
X-WR-CALNAME:aplClub
X-ORIGINAL-URL:http://aplclub.lu
X-WR-CALDESC:Évènements pour aplClub
BEGIN:VEVENT
DTSTART;VALUE=DATE:20190315
DTEND;VALUE=DATE:20190316
DTSTAMP:20200123T080910
CREATED:20190209T084449Z
LAST-MODIFIED:20190310T190633Z
UID:324-1552608000-1552694399@aplclub.lu
SUMMARY:The First Road Trip of 2019 in Luxembourg
DESCRIPTION:\n\n\n\n\n\n\n\n\n\n\n\n\n\nNous vous proposons une petite ballade a travers la campagne luxembourgeoise\, suivi d’un petit resto.\nNotre ami Philippe nous a concocté un petit road book bien sympathique.\n\n\n\n\n\n\n\n\n\n\n\n\n\n\n
URL:http://aplclub.lu/event/the-first-road-trip-of-2019-in-luxembourg/
CATEGORIES:Sorties 2019
ATTACH;FMTTYPE=image/jpeg:http://aplclub.lu/wp-content/uploads/2019/02/49398141_2463011670593378_7970347274213523456_n.jpg
ORGANIZER;CN="APL%20Club":MAILTO:info@aplclub.lu
END:VEVENT
END:VCALENDAR