BEGIN:VCALENDAR
VERSION:2.0
PRODID:-//aplClub - ECPv4.8.2//NONSGML v1.0//EN
CALSCALE:GREGORIAN
METHOD:PUBLISH
X-WR-CALNAME:aplClub
X-ORIGINAL-URL:http://aplclub.lu
X-WR-CALDESC:Évènements pour aplClub
BEGIN:VEVENT
DTSTART;VALUE=DATE:20190504
DTEND;VALUE=DATE:20190505
DTSTAMP:20211009T144431
CREATED:20190209T090709Z
LAST-MODIFIED:20190310T191200Z
UID:335-1556928000-1557014399@aplclub.lu
SUMMARY:Road Trip Luxembourg  - 4 Mai 2019
DESCRIPTION:Nous vous proposons une petite ballade a travers la campagne luxembourgeoise\, suivi d’un petit resto.\nNotre ami Philippe nous a concocté un petit road book bien sympathique. \n
URL:http://aplclub.lu/event/road-trip-luxembourg-4-mai-2019/
CATEGORIES:Sorties 2019
ATTACH;FMTTYPE=image/jpeg:http://aplclub.lu/wp-content/uploads/2019/02/49787276_2463055273922351_2496188288960823296_o.jpg
ORGANIZER;CN="APL%20Club":MAILTO:info@aplclub.lu
END:VEVENT
END:VCALENDAR