BEGIN:VCALENDAR
VERSION:2.0
PRODID:-//aplClub - ECPv4.8.2//NONSGML v1.0//EN
CALSCALE:GREGORIAN
METHOD:PUBLISH
X-WR-CALNAME:aplClub
X-ORIGINAL-URL:http://aplclub.lu
X-WR-CALDESC:Évènements pour aplClub
BEGIN:VEVENT
DTSTART;VALUE=DATE:20190517
DTEND;VALUE=DATE:20190518
DTSTAMP:20211009T144449
CREATED:20190209T090836Z
LAST-MODIFIED:20190310T192304Z
UID:337-1558051200-1558137599@aplclub.lu
SUMMARY:Road Trip Luxembourg By Fred
DESCRIPTION:Nous vous proposons une petite ballade a travers la campagne luxembourgeoise\, suivi d’un petit resto.\nNotre ami Fred nous a concocté un petit road book bien sympathique. \n
URL:http://aplclub.lu/event/road-trip-luxembourg-by-fred/
CATEGORIES:Sorties 2019
ATTACH;FMTTYPE=image/jpeg:http://aplclub.lu/wp-content/uploads/2019/02/49746391_2463021923925686_851818956850200576_n.jpg
ORGANIZER;CN="APL%20Club":MAILTO:info@aplclub.lu
END:VEVENT
END:VCALENDAR