BEGIN:VCALENDAR
VERSION:2.0
PRODID:-//aplClub - ECPv4.8.2//NONSGML v1.0//EN
CALSCALE:GREGORIAN
METHOD:PUBLISH
X-WR-CALNAME:aplClub
X-ORIGINAL-URL:http://aplclub.lu
X-WR-CALDESC:Évènements pour aplClub
BEGIN:VEVENT
DTSTART;VALUE=DATE:20190803
DTEND;VALUE=DATE:20190804
DTSTAMP:20210423T025442
CREATED:20190209T094933Z
LAST-MODIFIED:20190310T193806Z
UID:353-1564790400-1564876799@aplclub.lu
SUMMARY:APL Garden - 3 Août 2019
DESCRIPTION:Nous vous proposons un sympathique road book à travers la Gaume\, suivit d’un sympathique repas convivial. \n
URL:http://aplclub.lu/event/apl-garden/
CATEGORIES:Sorties 2019
ATTACH;FMTTYPE=image/png:http://aplclub.lu/wp-content/uploads/2019/02/sans-titre.png
ORGANIZER;CN="APL%20Club":MAILTO:info@aplclub.lu
END:VEVENT
END:VCALENDAR